BEGIN:VCALENDAR
VERSION:2.0
CALSCALE:GREGORIAN
PRODID:-//Diputació de Barcelona//DibaCMS//EN
BEGIN:VEVENT
UID:5916
DTSTAMP:20260420T000934
DTSTART:20240321T180000
DTEND:20240321T190000
SUMMARY:Club de lectura amb Rosa Massagué   
LOCATION:C/ Josep Fornell, s/n 08231 Ullastrell
METHOD:PUBLISH
X-WR-CALNAME:ullastrell@ullastrell.cat
X-WR-TIMEZONE:Europe/Madrid
DESCRIPTION:En aquesta sessió comentarem El cor de les tenebres de Josep Conrad.

 

 

URI:https://www.ullastrell.cat/actualitat/agenda/5916-club-de-lectura-amb-rosa-massague-.html
CLASS:PUBLIC
END:VEVENT
END:VCALENDAR
