BEGIN:VCALENDAR
VERSION:2.0
CALSCALE:GREGORIAN
PRODID:-//Diputació de Barcelona//DibaCMS//EN
BEGIN:VEVENT
UID:5917
DTSTAMP:20260420T001436
DTSTART:20240324T183000
DTEND:20240324T200000
SUMMARY:MOSTRA DE TEATRE: New Musical
LOCATION:C/ Josep Fornell, s/n 08231 Ullastrell
METHOD:PUBLISH
X-WR-CALNAME:ullastrell@ullastrell.cat
X-WR-TIMEZONE:Europe/Madrid
DESCRIPTION:Gatu oferirà aquesta obra dins la 35a Mostra de Teatre -

V Memorial Roser Anglada

 

 

URI:https://www.ullastrell.cat/actualitat/agenda/mostra-de-teatre-new-musical.html
CLASS:PUBLIC
END:VEVENT
END:VCALENDAR
