BEGIN:VCALENDAR
VERSION:2.0
CALSCALE:GREGORIAN
PRODID:-//Diputació de Barcelona//DibaCMS//EN
BEGIN:VEVENT
UID:5918
DTSTAMP:20260420T054153
DTSTART:20240128T173000
DTEND:20240128T200000
SUMMARY:Obertura: ESPAI JOVE
LOCATION:Plaça de les escoles, 1 08231 Ullastrell
METHOD:PUBLISH
X-WR-CALNAME:ullastrell@ullastrell.cat
X-WR-TIMEZONE:Europe/Madrid
DESCRIPTION:Nou horari Tots els dijous de 17.30 a 20 h

Si tens entre 12 i 16 anys, vine a gaudir de l’Espai i proposa allò que t’agradaria que hi passi!

URI:https://www.ullastrell.cat/actualitat/agenda/obertura-espai-jove.html
CLASS:PUBLIC
END:VEVENT
END:VCALENDAR
