BEGIN:VCALENDAR
VERSION:2.0
CALSCALE:GREGORIAN
PRODID:-//Diputació de Barcelona//DibaCMS//EN
BEGIN:VEVENT
UID:5921
DTSTAMP:20260420T071019
DTSTART:20240124T200000
DTEND:20240124T210000
SUMMARY:Ple ordinari 24 de gener de 2024
LOCATION:
METHOD:PUBLISH
X-WR-CALNAME:ullastrell@ullastrell.cat
X-WR-TIMEZONE:Europe/Madrid
DESCRIPTION:Tipus de convocatòria: Ordinària

URI:https://www.ullastrell.cat/actualitat/agenda/ple-ordinari-24-de-gener-de-2024.html
CLASS:PUBLIC
END:VEVENT
END:VCALENDAR
