BEGIN:VCALENDAR
VERSION:2.0
CALSCALE:GREGORIAN
PRODID:-//Diputació de Barcelona//DibaCMS//EN
BEGIN:VEVENT
UID:5925
DTSTAMP:20260420T012956
DTSTART:20240125T200000
DTEND:20240125T210000
SUMMARY:Informació porta porta i taxa justa - sessió on line
LOCATION:
METHOD:PUBLISH
X-WR-CALNAME:ullastrell@ullastrell.cat
X-WR-TIMEZONE:Europe/Madrid
DESCRIPTION:En aquestes sessions podrem resoldre dubtes sobre la taxa justa i recollir el kit de recollida d’oli i roba porta porta. També hi haurà atenció d’incidències sobre cubells i dades personals.
Recordem que ja estan disponibles per Android i Apple les aplicacions d’usuaris de taxa justa en els següents enllaços:
https://play.google.com/store/apps/details?id=com.ullastrell.wcity&pcampaignid=web_share
https://apps.apple.com/es/app/residus-ullastrell/id6475671792?l=ca

QR enllaç sessió on line:

URI:https://www.ullastrell.cat/actualitat/agenda/informacio-porta-porta-i-taxa-justa-sessio-on-line.html
CLASS:PUBLIC
END:VEVENT
END:VCALENDAR
