BEGIN:VCALENDAR
VERSION:2.0
CALSCALE:GREGORIAN
PRODID:-//Diputació de Barcelona//DibaCMS//EN
BEGIN:VEVENT
UID:5928
DTSTAMP:20260420T043148
DTSTART:20240131T180000
DTEND:20240131T193000
SUMMARY:Punt d'atenció policial a Ullastrell 
LOCATION:C/ Serra, 17 08231 Ullastrell
METHOD:PUBLISH
X-WR-CALNAME:ullastrell@ullastrell.cat
X-WR-TIMEZONE:Europe/Madrid
DESCRIPTION:Dimecres 31 de gener, de 18:00 a 19:30 h a l'Ajuntament, s'instal·la el punt d'atenció policial oferit per Mossos d'Esquadra.

Aquí podrem interposar denúncies, realitzar consultes o altres gestions.

📝Encara sou a temps de reservar cita prèvia trucant al 93 788 72 62

URI:https://www.ullastrell.cat/actualitat/agenda/5928-punt-datencio-policial-a-ullastrell-.html
CLASS:PUBLIC
END:VEVENT
END:VCALENDAR
