BEGIN:VCALENDAR
VERSION:2.0
CALSCALE:GREGORIAN
PRODID:-//Diputació de Barcelona//DibaCMS//EN
BEGIN:VEVENT
UID:5933
DTSTAMP:20260420T054807
DTSTART:20240211T183000
DTEND:20240211T200000
SUMMARY:Per Carnaval us espera l'artista local
LOCATION:C/ Josep Fornell, s/n 08231 Ullastrell
METHOD:PUBLISH
X-WR-CALNAME:ullastrell@ullastrell.cat
X-WR-TIMEZONE:Europe/Madrid
DESCRIPTION:Festival, per carnaval, l'artista local! com cada any ens sorprendrà amb les intervencions artístiques de cares ben conegudes. De la mà d'Ullastrell Solidari.

La recaptació anirà destinada íntegrament a la investigació i cura de la malaltia de l'ELA (Esclerosis Lateral Amiotròfica) a través de la Fundació F. Luzón

URI:https://www.ullastrell.cat/actualitat/agenda/5933-per-carnaval-us-espera-lartista-local.html
CLASS:PUBLIC
END:VEVENT
END:VCALENDAR
