BEGIN:VCALENDAR
VERSION:2.0
CALSCALE:GREGORIAN
PRODID:-//Diputació de Barcelona//DibaCMS//EN
BEGIN:VEVENT
UID:5943
DTSTAMP:20260420T013043
DTSTART:20240215T180000
DTEND:20240215T193000
SUMMARY:Torneig Tenis taula
LOCATION:Plaça de les escoles, 1 08231 Ullastrell
METHOD:PUBLISH
X-WR-CALNAME:ullastrell@ullastrell.cat
X-WR-TIMEZONE:Europe/Madrid
DESCRIPTION:Que tan bé se't dona el Ping-pong?

Vine i guanya el premi!

Activitat de 12 a 16 anys.

URI:https://www.ullastrell.cat/actualitat/agenda/torneig-tenis-taula.html
CLASS:PUBLIC
END:VEVENT
END:VCALENDAR
