BEGIN:VCALENDAR
VERSION:2.0
CALSCALE:GREGORIAN
PRODID:-//Diputació de Barcelona//DibaCMS//EN
BEGIN:VEVENT
UID:5944
DTSTAMP:20260420T003019
DTSTART:20240222T180000
DTEND:20240222T193000
SUMMARY:Tie-dye la teva roba
LOCATION:Plaça de les escoles, 1 08231 Ullastrell
METHOD:PUBLISH
X-WR-CALNAME:ullastrell@ullastrell.cat
X-WR-TIMEZONE:Europe/Madrid
DESCRIPTION:Fem el tint.

Activitat de 12 a 16 anys.

URI:https://www.ullastrell.cat/actualitat/agenda/tie-dye-la-teva-roba.html
CLASS:PUBLIC
END:VEVENT
END:VCALENDAR
