BEGIN:VCALENDAR
VERSION:2.0
CALSCALE:GREGORIAN
PRODID:-//Diputació de Barcelona//DibaCMS//EN
BEGIN:VEVENT
UID:5946
DTSTAMP:20260420T044234
DTSTART:20240307T180000
DTEND:20240307T193000
SUMMARY:Basketbeat
LOCATION:Plaça de les escoles, 1 08231 Ullastrell
METHOD:PUBLISH
X-WR-CALNAME:ullastrell@ullastrell.cat
X-WR-TIMEZONE:Europe/Madrid
DESCRIPTION:T'agrada el bàsquet i els ritmes? Vine!

Activitat de 12 a 16 anys.

URI:https://www.ullastrell.cat/actualitat/agenda/basketbeat.html
CLASS:PUBLIC
END:VEVENT
END:VCALENDAR
