BEGIN:VCALENDAR
VERSION:2.0
CALSCALE:GREGORIAN
PRODID:-//Diputació de Barcelona//DibaCMS//EN
BEGIN:VEVENT
UID:5948
DTSTAMP:20260420T001257
DTSTART:20240321T180000
DTEND:20240321T200000
SUMMARY:Territori verd
LOCATION:Plaça de les escoles, 1 08231 Ullastrell
METHOD:PUBLISH
X-WR-CALNAME:ullastrell@ullastrell.cat
X-WR-TIMEZONE:Europe/Madrid
DESCRIPTION:Organitzem l'espai del pati: hort vertical, alimentador d'ocells,...

Activitat de 12 a 16 anys.

URI:https://www.ullastrell.cat/actualitat/agenda/5948-territori-verd.html
CLASS:PUBLIC
END:VEVENT
END:VCALENDAR
