BEGIN:VCALENDAR
VERSION:2.0
CALSCALE:GREGORIAN
PRODID:-//Diputació de Barcelona//DibaCMS//EN
BEGIN:VEVENT
UID:5951
DTSTAMP:20260419T235801
DTSTART:20240316T200000
DTEND:20240316T233000
SUMMARY:Iaia: memòria històrica amb Alba Valldaura
LOCATION:C/ Josep Fornell, s/n 08231 Ullastrell
METHOD:PUBLISH
X-WR-CALNAME:ullastrell@ullastrell.cat
X-WR-TIMEZONE:Europe/Madrid
DESCRIPTION:Una obra per recuperar la memòria històrica i el paper de la gent gran dins de la nostra societat.

 

URI:https://www.ullastrell.cat/actualitat/agenda/iaia-memoria-historica-amb-alba-valldaura.html
CLASS:PUBLIC
END:VEVENT
END:VCALENDAR
