BEGIN:VCALENDAR
VERSION:2.0
CALSCALE:GREGORIAN
PRODID:-//Diputació de Barcelona//DibaCMS//EN
BEGIN:VEVENT
UID:5953
DTSTAMP:20260420T003128
DTSTART:20240229T200000
DTEND:20240229T210000
SUMMARY:Acte monogràfic del Govern Municipal
LOCATION:C/ Josep Fornell, s/n 08231 Ullastrell
METHOD:PUBLISH
X-WR-CALNAME:ullastrell@ullastrell.cat
X-WR-TIMEZONE:Europe/Madrid
DESCRIPTION:Acte monogràfic del Govern Municipal sobre el desenvolupament del Pla Parcial del Polígon de Can Curpell-Dipistol. Dijous 29 de febrer a les 20.00h a la Biblioteca del Casal Cultural.

URI:https://www.ullastrell.cat/actualitat/agenda/5953-acte-monografic-del-govern-municipal.html
CLASS:PUBLIC
END:VEVENT
END:VCALENDAR
