BEGIN:VCALENDAR
VERSION:2.0
CALSCALE:GREGORIAN
PRODID:-//Diputació de Barcelona//DibaCMS//EN
BEGIN:VEVENT
UID:5956
DTSTAMP:20260420T002834
DTSTART:20240228T200000
DTEND:20240228T210000
SUMMARY:Ple extraordinari 28 de febrer de 2024  
LOCATION:
METHOD:PUBLISH
X-WR-CALNAME:ullastrell@ullastrell.cat
X-WR-TIMEZONE:Europe/Madrid
DESCRIPTION:Tipus de convocatòria: Extraordinària

URI:https://www.ullastrell.cat/actualitat/agenda/ple-extraordinari-28-de-febrer-de-2024-.html
CLASS:PUBLIC
END:VEVENT
END:VCALENDAR
