BEGIN:VCALENDAR
VERSION:2.0
CALSCALE:GREGORIAN
PRODID:-//Diputació de Barcelona//DibaCMS//EN
BEGIN:VEVENT
UID:5957
DTSTAMP:20260420T011538
DTSTART:20240320T173000
DTEND:20240320T183000
SUMMARY:Vols consells per estalviar aigua a la llar?
LOCATION:C/ Josep Fornell, s/n 08231 Ullastrell
METHOD:PUBLISH
X-WR-CALNAME:ullastrell@ullastrell.cat
X-WR-TIMEZONE:Europe/Madrid
DESCRIPTION:Vols consells per estalviar aigua a la llar?💦
Vine el proper dimecres 20 de març i t’explicarem com estalviar aigua a nivell domèstic. En l’entorn actual de sequera en que es troba a Catalunya cada gota compta❗
Lloc: Biblioteca Josep Massagué
Hora:17:30h
Dia: 20-03-2024

URI:https://www.ullastrell.cat/actualitat/agenda/vols-consells-per-estalviar-aigua-a-la-llar.html
CLASS:PUBLIC
END:VEVENT
END:VCALENDAR
