BEGIN:VCALENDAR
VERSION:2.0
CALSCALE:GREGORIAN
PRODID:-//Diputació de Barcelona//DibaCMS//EN
BEGIN:VEVENT
UID:5959
DTSTAMP:20260420T015020
DTSTART:20240305T180000
DTEND:20240305T190000
SUMMARY:Club de lectura amb Dolors Torrent
LOCATION:C/ Josep Fornell, s/n 08231 Ullastrell
METHOD:PUBLISH
X-WR-CALNAME:ullastrell@ullastrell.cat
X-WR-TIMEZONE:Europe/Madrid
DESCRIPTION:Dimarts 5 de març la professora d'història Dolors Torrent, vindrà a Ullastrell a parlar de les Causes i conseqüències de la Revolució Francesa.
Serà una sessió complementària a la dedicada a la lectura de 'Fouché' de Stefan Zweig.

 

 

URI:https://www.ullastrell.cat/actualitat/agenda/club-de-lectura-amb-dolors-torrent.html
CLASS:PUBLIC
END:VEVENT
END:VCALENDAR
