BEGIN:VCALENDAR
VERSION:2.0
CALSCALE:GREGORIAN
PRODID:-//Diputació de Barcelona//DibaCMS//EN
BEGIN:VEVENT
UID:5965
DTSTAMP:20260420T003107
DTSTART:20240306T110000
DTEND:20240306T113000
SUMMARY:Festes de Serralavella - Activitats de dimecres 06/03/2024
LOCATION:C/ Serra, 17 08231 Ullastrell
METHOD:PUBLISH
X-WR-CALNAME:ullastrell@ullastrell.cat
X-WR-TIMEZONE:Europe/Madrid
DESCRIPTION:11h - Davant l'Ajuntament

Rebuda de la Vella Quaresma per les autoritats locals. Mostra de les banderes realitzades per cada classe de l'Escola Serralavella i d'El Cucut.

Pregó d'inici de Festes a càrrec de la Vella Quaresma.

Cantada de Serralavella, cantarem la cançó tots junts amb la Vella Quaresma. Recordeu portar cistell, tronc, serra i barretina!

URI:https://www.ullastrell.cat/actualitat/agenda/festes-de-serralavella-activitats-de-dimecres-06032024.html
CLASS:PUBLIC
END:VEVENT
END:VCALENDAR
