BEGIN:VCALENDAR
VERSION:2.0
CALSCALE:GREGORIAN
PRODID:-//Diputació de Barcelona//DibaCMS//EN
BEGIN:VEVENT
UID:5966
DTSTAMP:20260419T235840
DTSTART:20240308T164500
DTEND:20240308T180000
SUMMARY:Festes de Serralavella - Activitats divendres 8/03/2024
LOCATION:C/ Josep Fornell, s/n 08231 Ullastrell
METHOD:PUBLISH
X-WR-CALNAME:ullastrell@ullastrell.cat
X-WR-TIMEZONE:Europe/Madrid
DESCRIPTION:Salta i juga: Vine a donar-ho tot santant i jugant amb inflables i jocs infantils.

Organitza: Ajuntament d'Ullastrell

URI:https://www.ullastrell.cat/actualitat/agenda/festes-de-serralavella-activitats-divendres-8032024.html
CLASS:PUBLIC
END:VEVENT
END:VCALENDAR
