BEGIN:VCALENDAR
VERSION:2.0
CALSCALE:GREGORIAN
PRODID:-//Diputació de Barcelona//DibaCMS//EN
BEGIN:VEVENT
UID:5967
DTSTAMP:20260420T001709
DTSTART:20240309T110000
DTEND:20240309T220000
SUMMARY:Festes de Serralavella - Activitats de dissabte 09/03/2024
LOCATION:
METHOD:PUBLISH
X-WR-CALNAME:ullastrell@ullastrell.cat
X-WR-TIMEZONE:Europe/Madrid
DESCRIPTION:11h - Davant l'Ajuntament

Esmorzar popular, vine a omplir la panxa i jugar amb propostes per a tothom!

De 11 a 14h - Davant l'Ajuntament

Matí de jocs, pels més grans, Instal·lació tall de fusta, un espai on fer de fusters i fusteres per un dia. A partir de 5 anys. Pels més petits, espai de joc sensorial per a 0-4 anys. A càrrec de Pájaro Jocs.

URI:https://www.ullastrell.cat/actualitat/agenda/festes-de-serralavella-activitats-de-dissabte-09032024.html
CLASS:PUBLIC
END:VEVENT
END:VCALENDAR
