BEGIN:VCALENDAR
VERSION:2.0
CALSCALE:GREGORIAN
PRODID:-//Diputació de Barcelona//DibaCMS//EN
BEGIN:VEVENT
UID:5968
DTSTAMP:20260419T235914
DTSTART:20240310T100000
DTEND:20240310T150000
SUMMARY:Festes de Serralavella - Activitats de diumenge 10/03/2024
LOCATION:
METHOD:PUBLISH
X-WR-CALNAME:ullastrell@ullastrell.cat
X-WR-TIMEZONE:Europe/Madrid
DESCRIPTION:De 10h a 15h - Carrer Serra

Fira de Serralavella al Carrer, passeja, bada, conversa i compra en aquesta fira multisectorial de comerciants i entitats locals.

A partir de les 10.30h - Pl. Lluís Companys

X Concurs de Serratroncs. Qui podrà desbancar el/la guanyador/a de l'any passat? Vine i participa-hi!

 

URI:https://www.ullastrell.cat/actualitat/agenda/festes-de-serralavella-activitats-de-diumenge-10032024.html
CLASS:PUBLIC
END:VEVENT
END:VCALENDAR
