BEGIN:VCALENDAR
VERSION:2.0
CALSCALE:GREGORIAN
PRODID:-//Diputació de Barcelona//DibaCMS//EN
BEGIN:VEVENT
UID:5983
DTSTAMP:20260419T235931
DTSTART:20240320T190000
DTEND:20240320T200000
SUMMARY:Presentació del llibre Més de 25 anys educant
LOCATION:C/ Serra 37 08231 Ullastrell
METHOD:PUBLISH
X-WR-CALNAME:ullastrell@ullastrell.cat
X-WR-TIMEZONE:Europe/Madrid
DESCRIPTION:L'IES Viladecacalls presenta a Ullastrell el llibre Més de 25 anys educant. No et perdis aquesta commemoració especial amb la intervenció de Belén Parra i altres professors convidats.

URI:https://www.ullastrell.cat/actualitat/agenda/presentacio-del-llibre-mes-de-25-anys-educant.html
CLASS:PUBLIC
END:VEVENT
END:VCALENDAR
