BEGIN:VCALENDAR
VERSION:2.0
CALSCALE:GREGORIAN
PRODID:-//Diputació de Barcelona//DibaCMS//EN
BEGIN:VEVENT
UID:5987
DTSTAMP:20260420T003225
DTSTART:20240407T101500
DTEND:20240407T130000
SUMMARY:DIADA DE PASQÜETES - CARAMELLES 2024
LOCATION:Can Gras 
METHOD:PUBLISH
X-WR-CALNAME:ullastrell@ullastrell.cat
X-WR-TIMEZONE:Europe/Madrid
DESCRIPTION:Sota la direcció d'Anna Tàpia i Josep Rodó

URI:https://www.ullastrell.cat/actualitat/agenda/diada-de-pasquetes-caramelles-2024.html
CLASS:PUBLIC
END:VEVENT
END:VCALENDAR
