BEGIN:VCALENDAR
VERSION:2.0
CALSCALE:GREGORIAN
PRODID:-//Diputació de Barcelona//DibaCMS//EN
BEGIN:VEVENT
UID:5988
DTSTAMP:20260420T001058
DTSTART:20240401T183000
DTEND:20240401T200000
SUMMARY:Tret de sortida de la III Setmana de la Gent gran
LOCATION:C/ Josep Fornell, s/n 08231 Ullastrell
METHOD:PUBLISH
X-WR-CALNAME:ullastrell@ullastrell.cat
X-WR-TIMEZONE:Europe/Madrid
DESCRIPTION:Parlaments institucionals.

Projecció de la pel·lícula “Un golpe con estilo”.

Lunch i copa de cava.

URI:https://www.ullastrell.cat/actualitat/agenda/tret-de-sortida-de-la-iii-setmana-de-la-gent-gran.html
CLASS:PUBLIC
END:VEVENT
END:VCALENDAR
