BEGIN:VCALENDAR
VERSION:2.0
CALSCALE:GREGORIAN
PRODID:-//Diputació de Barcelona//DibaCMS//EN
BEGIN:VEVENT
UID:5990
DTSTAMP:20260420T001356
DTSTART:20240402T183000
DTEND:20240402T200000
SUMMARY:Conferència “Qui canta els seus mals espanta”, amb David Puertas
LOCATION:C/ Josep Fornell, s/n 08231 Ullastrell
METHOD:PUBLISH
X-WR-CALNAME:ullastrell@ullastrell.cat
X-WR-TIMEZONE:Europe/Madrid
DESCRIPTION:Descobrirem de la mà d’aquest prestigiós divulgador musical el procés de gestació del projecte Catalunya: terra de cants de la Cobla Maricel. Recorrerem aquelles cançons que han omplert la nostra vida des de sempre (caramelles, nadales, himnes, cançons de jugar...) amb l’audició de les obres més estimades pel públic sardanista i d’altres que segur que estarem encantats de descobrir.

Al final petit refrigeri per a tothom.

URI:https://www.ullastrell.cat/actualitat/agenda/conferencia-qui-canta-els-seus-mals-espanta-amb-david-puertas.html
CLASS:PUBLIC
END:VEVENT
END:VCALENDAR
