BEGIN:VCALENDAR
VERSION:2.0
CALSCALE:GREGORIAN
PRODID:-//Diputació de Barcelona//DibaCMS//EN
BEGIN:VEVENT
UID:5993
DTSTAMP:20260420T012916
DTSTART:20240405T100000
DTEND:20240405T120000
SUMMARY:Activitats setmana de la Gent Gran
LOCATION:
METHOD:PUBLISH
X-WR-CALNAME:ullastrell@ullastrell.cat
X-WR-TIMEZONE:Europe/Madrid
DESCRIPTION:A les 10 h. 

Pista poliesportiva.

Jocs amb l’Escola Serralavella.

Participació amb jocs de sempre entre la Gent Gran i alumnes de l’escola Serralavella amb repartiment de premis per la canalla.

Inscripcions : Núria Hernández 607229903 (mòbil i whatsApp).

 

A les 11 h.  

Pista poliesportiva.

Gimnàstica per tothom

Activitat oberta a tothom a càrrec de Eli Amat acabant amb un refresc per a totes les persones participants.

URI:https://www.ullastrell.cat/actualitat/agenda/activitats-setmana-de-la-gent-gran.html
CLASS:PUBLIC
END:VEVENT
END:VCALENDAR
