BEGIN:VCALENDAR
VERSION:2.0
CALSCALE:GREGORIAN
PRODID:-//Diputació de Barcelona//DibaCMS//EN
BEGIN:VEVENT
UID:5995
DTSTAMP:20260419T230728
DTSTART:20240407T123000
DTEND:20240407T173000
SUMMARY:Activitats Setmana Gent Gran
LOCATION:
METHOD:PUBLISH
X-WR-CALNAME:ullastrell@ullastrell.cat
X-WR-TIMEZONE:Europe/Madrid
DESCRIPTION:A les 12:30h. Església de Santa Maria.

Missa pels difunts de la Gent gran. Al final Cant de les Caramelles.

 

A les 14 h.  Gimnàs de l’Escola Serralavella

Dinar d’homenatge a la Gent Gran del Poble ofert per l’Ajuntament.

Inscripcions: Trucant a l’Ajuntament 937887262 fins el 27 de març inclòs.

 

A les 17:30h. Teatre del Casal Cultural

Concert “De Broadway a Hollywood”, amb la Banda Musical de Matadepera. Entrada gratuïta (reserves a l’Ajuntament fins el 5/04 trucant a l’Ajuntament 937887262).

 

A l’acabar, a l’Espai de la Gent Gran


Cloenda de la III Setmana de la Gent Gran amb copa de cava per  a tothom.


URI:https://www.ullastrell.cat/actualitat/agenda/5995-activitats-setmana-gent-gran.html
CLASS:PUBLIC
END:VEVENT
END:VCALENDAR
