BEGIN:VCALENDAR
VERSION:2.0
CALSCALE:GREGORIAN
PRODID:-//Diputació de Barcelona//DibaCMS//EN
BEGIN:VEVENT
UID:6003
DTSTAMP:20260419T230740
DTSTART:20240408T170000
DTEND:20240408T180000
SUMMARY:TALLER D'AGULLA MÀGICA 
LOCATION:C/ Josep Fornell, s/n 08231 Ullastrell
METHOD:PUBLISH
X-WR-CALNAME:ullastrell@ullastrell.cat
X-WR-TIMEZONE:Europe/Madrid
DESCRIPTION:Taller de brodat rus, també anomenat agulla màgica o brodat en relleu, consisteix en punxar amb un punxó (agulla especial) la roba i formar el dibuix que volem. No cal saber brodar ni cosir.

URI:https://www.ullastrell.cat/actualitat/agenda/taller-dagulla-magica-.html
CLASS:PUBLIC
END:VEVENT
END:VCALENDAR
