BEGIN:VCALENDAR
VERSION:2.0
CALSCALE:GREGORIAN
PRODID:-//Diputació de Barcelona//DibaCMS//EN
BEGIN:VEVENT
UID:6004
DTSTAMP:20260420T164529
DTSTART:20240409T103000
DTEND:20240409T120000
SUMMARY:Inscripcions al Taller d'Estimulació cognitiva
LOCATION:C/ Josep Fornell, s/n 08231 Ullastrell
METHOD:PUBLISH
X-WR-CALNAME:ullastrell@ullastrell.cat
X-WR-TIMEZONE:Europe/Madrid
DESCRIPTION:



URI:https://www.ullastrell.cat/actualitat/agenda/inscripcions-al-taller-destimulacio-cognitiva.html
CLASS:PUBLIC
END:VEVENT
END:VCALENDAR
