BEGIN:VCALENDAR
VERSION:2.0
CALSCALE:GREGORIAN
PRODID:-//Diputació de Barcelona//DibaCMS//EN
BEGIN:VEVENT
UID:6006
DTSTAMP:20260420T164649
DTSTART:20240417T170000
DTEND:20240417T180000
SUMMARY:CONTE VA CONTE VE: La Rita i el drac golafre 
LOCATION:C/ Josep Fornell, s/n 08231 Ullastrell
METHOD:PUBLISH
X-WR-CALNAME:ullastrell@ullastrell.cat
X-WR-TIMEZONE:Europe/Madrid
DESCRIPTION:


Princeses cruspides per dracs ferotges, cavallers valents salvadors de princeses… La llegenda de St. Jordi, una història d’amor i valentia… i bla, bla, bla… Doncs no! La Rita està tipa de les típiques històries medievals. Aquesta princesa és moderna i roquera, explicarà què en pensa de tot això. Una història molt divertida en la qual el drac li agrada menjar llibres i s’endinsarà en diferents aventures amb la princesa. Basat en el conte il·lustrat de Gemma Armengol i Òscar Julve.

URI:https://www.ullastrell.cat/actualitat/agenda/conte-va-conte-ve-la-rita-i-el-drac-golafre-.html
CLASS:PUBLIC
END:VEVENT
END:VCALENDAR
