BEGIN:VCALENDAR
VERSION:2.0
CALSCALE:GREGORIAN
PRODID:-//Diputació de Barcelona//DibaCMS//EN
BEGIN:VEVENT
UID:6007
DTSTAMP:20260420T151206
DTSTART:20240418T183000
DTEND:20240418T193000
SUMMARY:Conferència "La situació actual a Palestina" i presentació del llibre "Nakba", amb l'autor Salah Jamal
LOCATION:C/ Josep Fornell, s/n 08231 Ullastrell
METHOD:PUBLISH
X-WR-CALNAME:ullastrell@ullastrell.cat
X-WR-TIMEZONE:Europe/Madrid
DESCRIPTION:


El metge, historiador i escriptor Salah Jamal ve a parlar-nos de la situació actual a Palestina en aquests moments tan durs i presentar-nos el seu llibre.




Moderat per Rosa Massagué

URI:https://www.ullastrell.cat/actualitat/agenda/conferencia-la-situacio-actual-a-palestina-i-presentacio-del-llibre-nakba-amb-lautor-salah-jamal.html
CLASS:PUBLIC
END:VEVENT
END:VCALENDAR
