BEGIN:VCALENDAR
VERSION:2.0
CALSCALE:GREGORIAN
PRODID:-//Diputació de Barcelona//DibaCMS//EN
BEGIN:VEVENT
UID:6008
DTSTAMP:20260420T113830
DTSTART:20230423T160000
DTEND:20230423T200000
SUMMARY:FIRA DE SANT JORDI 
LOCATION:a la Serra 
METHOD:PUBLISH
X-WR-CALNAME:ullastrell@ullastrell.cat
X-WR-TIMEZONE:Europe/Madrid
DESCRIPTION:


Parades de llibres, roses i més. Entrega de premis del XV Concurs de punts de llibres i IV Concurs de microcontes.

URI:https://www.ullastrell.cat/actualitat/agenda/fira-de-sant-jordi-.html
CLASS:PUBLIC
END:VEVENT
END:VCALENDAR
