BEGIN:VCALENDAR
VERSION:2.0
CALSCALE:GREGORIAN
PRODID:-//Diputació de Barcelona//DibaCMS//EN
BEGIN:VEVENT
UID:6011
DTSTAMP:20260420T003312
DTSTART:20240502T190000
DTEND:20240502T200000
SUMMARY:Presentació del llibre "El crim del monestir" amb l'autor Miquel Fañanàs
LOCATION:C/ Josep Fornell, s/n 08231 Ullastrell
METHOD:PUBLISH
X-WR-CALNAME:ullastrell@ullastrell.cat
X-WR-TIMEZONE:Europe/Madrid
DESCRIPTION:


Miquel Fañanàs, periodista i escriptor, ha col·laborat en diversos mitjans de comunicació, ha publicat més d'una vintena de novel·les i ha guanyat diversos premis literaris. Presenta la seva última novel·la El crim del monestir, la història real d'un crim que va commocionar la Banyoles del segle XVII.

URI:https://www.ullastrell.cat/actualitat/agenda/presentacio-del-llibre-el-crim-del-monestir-amb-lautor-miquel-fananas.html
CLASS:PUBLIC
END:VEVENT
END:VCALENDAR
