BEGIN:VCALENDAR
VERSION:2.0
CALSCALE:GREGORIAN
PRODID:-//Diputació de Barcelona//DibaCMS//EN
BEGIN:VEVENT
UID:6013
DTSTAMP:20260419T225921
DTSTART:20240507T190000
DTEND:20240507T200000
SUMMARY:"Xerrada.  Mòbils: prohibir o acompanyar? L'adolescència en un món de pantalles."
LOCATION:C/ Josep Fornell, s/n 08231 Ullastrell
METHOD:PUBLISH
X-WR-CALNAME:ullastrell@ullastrell.cat
X-WR-TIMEZONE:Europe/Madrid
DESCRIPTION:


Compartirem inquietuds sobre la gestió i ús de pantalles amb Alfonso Toral, educador social, pedagog, doctorat en pedagogia especialista en Teoria Educativa i expert en psicopatologia infanto-juvenil i transtorns de conducta.

URI:https://www.ullastrell.cat/actualitat/agenda/xerrada-mobils-prohibir-o-acompanyar-ladolescencia-en-un-mon-de-pantalles.html
CLASS:PUBLIC
END:VEVENT
END:VCALENDAR
