BEGIN:VCALENDAR
VERSION:2.0
CALSCALE:GREGORIAN
PRODID:-//Diputació de Barcelona//DibaCMS//EN
BEGIN:VEVENT
UID:6014
DTSTAMP:20260420T003159
DTSTART:20240509T180000
DTEND:20240509T190000
SUMMARY:Club de lectura amb Rosa Massagué   
LOCATION:C/ Josep Fornell, s/n 08231 Ullastrell
METHOD:PUBLISH
X-WR-CALNAME:ullastrell@ullastrell.cat
X-WR-TIMEZONE:Europe/Madrid
DESCRIPTION:Endinsa't en el gran plaer de la lectura de la mà d'aquesta periodista i escriptora ullastrellenca que ens guiarà en la lectura de tres propostes literàries. En aquesta sessió comentarem Farenheit451, de Bradbury.

 

 

URI:https://www.ullastrell.cat/actualitat/agenda/6014-club-de-lectura-amb-rosa-massague-.html
CLASS:PUBLIC
END:VEVENT
END:VCALENDAR
