BEGIN:VCALENDAR
VERSION:2.0
CALSCALE:GREGORIAN
PRODID:-//Diputació de Barcelona//DibaCMS//EN
BEGIN:VEVENT
UID:6015
DTSTAMP:20260419T224248
DTSTART:20240510T180000
DTEND:20240510T190000
SUMMARY:Taller de manga amb Xavi Tello
LOCATION:C/ Josep Fornell, s/n 08231 Ullastrell
METHOD:PUBLISH
X-WR-CALNAME:ullastrell@ullastrell.cat
X-WR-TIMEZONE:Europe/Madrid
DESCRIPTION:


Si t'agrada el manga o el dibuix, aquest és el teu taller! Parlarem del manga passant per una iniciació al dibuix, i podrem veure com dibuixar cares de personatges manga i fer un personatge propi. Apunta't!

URI:https://www.ullastrell.cat/actualitat/agenda/taller-de-manga-amb-xavi-tello.html
CLASS:PUBLIC
END:VEVENT
END:VCALENDAR
