BEGIN:VCALENDAR
VERSION:2.0
CALSCALE:GREGORIAN
PRODID:-//Diputació de Barcelona//DibaCMS//EN
BEGIN:VEVENT
UID:6027
DTSTAMP:20260419T212738
DTSTART:20240518T213000
DTEND:20240518T223000
SUMMARY:Concert acústic: Maio
LOCATION:Plaça Joan Montmany 
METHOD:PUBLISH
X-WR-CALNAME:ullastrell@ullastrell.cat
X-WR-TIMEZONE:Europe/Madrid
DESCRIPTION:La MAIO entén que la música, quan no la desaparelles de la política (així en general), sona molt bé. Maio escriu cançons tant properes com reals: és així com sonen: precioses, directes i honestes. En temps de crisi i mediocritat social, política, econòmica i musical, celebrem que la MAIO hagi decidit cantar-li a l'amistat, als vincles sincers, a l'empoderament col·lectiu (que no individualista), a l'amor i a la vida... als marges i des dels marges.

Dins la jornada contra la LGTBIfòbia.

URI:https://www.ullastrell.cat/actualitat/agenda/concert-acustic-maio.html
CLASS:PUBLIC
END:VEVENT
END:VCALENDAR
