BEGIN:VCALENDAR
VERSION:2.0
CALSCALE:GREGORIAN
PRODID:-//Diputació de Barcelona//DibaCMS//EN
BEGIN:VEVENT
UID:6028
DTSTAMP:20260421T094922
DTSTART:20240522T190000
DTEND:20240522T200000
SUMMARY:Xerrada: Entrenament de la força per millorar la qualitat de vida
LOCATION:08231 Ullastrell
METHOD:PUBLISH
X-WR-CALNAME:ullastrell@ullastrell.cat
X-WR-TIMEZONE:Europe/Madrid
DESCRIPTION:Després de la primera sessió la passada tardor amb Sergi Martin, aquesta vegada portarem a la pràctica els exercicis que vam comentar llavors. Vine amb roba esportiva còmode i prepara't pels exercicis de força.

A càrrec de Sergi Martin Gómez.

URI:https://www.ullastrell.cat/actualitat/agenda/6028-xerrada-entrenament-de-la-forca-per-millorar-la-qualitat-de-vida.html
CLASS:PUBLIC
END:VEVENT
END:VCALENDAR
