BEGIN:VCALENDAR
VERSION:2.0
CALSCALE:GREGORIAN
PRODID:-//Diputació de Barcelona//DibaCMS//EN
BEGIN:VEVENT
UID:6029
DTSTAMP:20260419T212426
DTSTART:20240526T120000
DTEND:20240526T183000
SUMMARY:Hoy no me puedo levantar
LOCATION:C/ Josep Fornell, s/n 08231 Ullastrell
METHOD:PUBLISH
X-WR-CALNAME:ullastrell@ullastrell.cat
X-WR-TIMEZONE:Europe/Madrid
DESCRIPTION:Gatu estrena aquest esperat i emocionant musical.

URI:https://www.ullastrell.cat/actualitat/agenda/hoy-no-me-puedo-levantar.html
CLASS:PUBLIC
END:VEVENT
END:VCALENDAR
