BEGIN:VCALENDAR
VERSION:2.0
CALSCALE:GREGORIAN
PRODID:-//Diputació de Barcelona//DibaCMS//EN
BEGIN:VEVENT
UID:6030
DTSTAMP:20260419T225556
DTSTART:20240530T173000
DTEND:20240530T183000
SUMMARY:JOCS DE TAULA INFANTIL I JUVENIL  
LOCATION:C/ Josep Fornell, s/n 08231 Ullastrell
METHOD:PUBLISH
X-WR-CALNAME:ullastrell@ullastrell.cat
X-WR-TIMEZONE:Europe/Madrid
DESCRIPTION:A càrrec de Jugar X Jugar

URI:https://www.ullastrell.cat/actualitat/agenda/6030-jocs-de-taula-infantil-i-juvenil-.html
CLASS:PUBLIC
END:VEVENT
END:VCALENDAR
