BEGIN:VCALENDAR
VERSION:2.0
CALSCALE:GREGORIAN
PRODID:-//Diputació de Barcelona//DibaCMS//EN
BEGIN:VEVENT
UID:6032
DTSTAMP:20260420T001144
DTSTART:20240411T180000
DTEND:20240411T193000
SUMMARY:Brownies al micro
LOCATION:Plaça de les escoles, 1 08231 Ullastrell
METHOD:PUBLISH
X-WR-CALNAME:ullastrell@ullastrell.cat
X-WR-TIMEZONE:Europe/Madrid
DESCRIPTION:Porta la teva tassa i vine a cuinar a l'Espai Jove.

De 12 a 16 anys

URI:https://www.ullastrell.cat/actualitat/agenda/brownies-al-micro.html
CLASS:PUBLIC
END:VEVENT
END:VCALENDAR
