BEGIN:VCALENDAR
VERSION:2.0
CALSCALE:GREGORIAN
PRODID:-//Diputació de Barcelona//DibaCMS//EN
BEGIN:VEVENT
UID:6034
DTSTAMP:20260419T230421
DTSTART:20240509T180000
DTEND:20240509T193000
SUMMARY:Moviment i pintura: expressa't!
LOCATION:Plaça de les escoles, 1 08231 Ullastrell
METHOD:PUBLISH
X-WR-CALNAME:ullastrell@ullastrell.cat
X-WR-TIMEZONE:Europe/Madrid
DESCRIPTION:Expressa't a través del moviment!

Vine a pintar amb el teu cos.

De 12 a 16 anys

URI:https://www.ullastrell.cat/actualitat/agenda/moviment-i-pintura-expressat.html
CLASS:PUBLIC
END:VEVENT
END:VCALENDAR
