BEGIN:VCALENDAR
VERSION:2.0
CALSCALE:GREGORIAN
PRODID:-//Diputació de Barcelona//DibaCMS//EN
BEGIN:VEVENT
UID:6035
DTSTAMP:20260419T212646
DTSTART:20240523T180000
DTEND:20240523T193000
SUMMARY:Torneig de ping-pong
LOCATION:Plaça de les escoles, 1 08231 Ullastrell
METHOD:PUBLISH
X-WR-CALNAME:ullastrell@ullastrell.cat
X-WR-TIMEZONE:Europe/Madrid
DESCRIPTION:Torneig de ping-pong amb dues modalitats:

de 12 a 14 anys i de 15 a 16 anys

Vine i guanya un val pel comerç local.

URI:https://www.ullastrell.cat/actualitat/agenda/torneig-de-ping-pong.html
CLASS:PUBLIC
END:VEVENT
END:VCALENDAR
