BEGIN:VCALENDAR
VERSION:2.0
CALSCALE:GREGORIAN
PRODID:-//Diputació de Barcelona//DibaCMS//EN
BEGIN:VEVENT
UID:6037
DTSTAMP:20260420T003342
DTSTART:20240602T100000
DTEND:20240602T150000
SUMMARY:Mercat d'intercanvi
LOCATION:Sala Gran del Molí - Carrer Serra 
METHOD:PUBLISH
X-WR-CALNAME:ullastrell@ullastrell.cat
X-WR-TIMEZONE:Europe/Madrid
DESCRIPTION:Arrel d'una iniciativa ciutadana, engega la primera edició del Mercat d'intercanvi textil d'Ullastrell.

 

URI:https://www.ullastrell.cat/actualitat/agenda/mercat-dintercanvi.html
CLASS:PUBLIC
END:VEVENT
END:VCALENDAR
