BEGIN:VCALENDAR
VERSION:2.0
CALSCALE:GREGORIAN
PRODID:-//Diputació de Barcelona//DibaCMS//EN
BEGIN:VEVENT
UID:6038
DTSTAMP:20260420T003256
DTSTART:20240603T190000
DTEND:20240603T200000
SUMMARY:  Plantes medicinals i comestibles
LOCATION:C/ Josep Fornell, s/n 08231 Ullastrell
METHOD:PUBLISH
X-WR-CALNAME:ullastrell@ullastrell.cat
X-WR-TIMEZONE:Europe/Madrid
DESCRIPTION:Coneixerem les plantes medicinals que podem trobar en el nostre entorn i com podem beneficiar-nos de les virtuts que ens ofereixen. Com poder gaudir-les en els nostres plats? I per cuidar-nos? Veurem com poden ser unes bones aliades per mantenir la salut, què ens aporten i com preparar-les.

URI:https://www.ullastrell.cat/actualitat/agenda/-plantes-medicinals-i-comestibles.html
CLASS:PUBLIC
END:VEVENT
END:VCALENDAR
