BEGIN:VCALENDAR
VERSION:2.0
CALSCALE:GREGORIAN
PRODID:-//Diputació de Barcelona//DibaCMS//EN
BEGIN:VEVENT
UID:6039
DTSTAMP:20260419T230755
DTSTART:20240605T173000
DTEND:20240605T183000
SUMMARY:Conte: Històries de bosc
LOCATION:C/ Josep Fornell, s/n 08231 Ullastrell
METHOD:PUBLISH
X-WR-CALNAME:ullastrell@ullastrell.cat
X-WR-TIMEZONE:Europe/Madrid
DESCRIPTION:Dos biòlegs us conviden a passar un dia explorant el Bosc. Carregats amb l'equipament d'Animalia descobrirem les històries amagades d'animals de la fauna catalana. Alguns d'ells estan en perill, d'altres estan perdent les seves llars i nosaltres podem ajudar-los. A través de diferents contes ens endinsem en la natura que tenim més propera.

A càrrec de Sàndal

URI:https://www.ullastrell.cat/actualitat/agenda/conte-histories-de-bosc.html
CLASS:PUBLIC
END:VEVENT
END:VCALENDAR
