BEGIN:VCALENDAR
VERSION:2.0
CALSCALE:GREGORIAN
PRODID:-//Diputació de Barcelona//DibaCMS//EN
BEGIN:VEVENT
UID:6042
DTSTAMP:20260419T212548
DTSTART:20240613T173000
DTEND:20240613T183000
SUMMARY:Picar de mans, amb Xiula
LOCATION:C/ Josep Fornell, s/n 08231 Ullastrell
METHOD:PUBLISH
X-WR-CALNAME:ullastrell@ullastrell.cat
X-WR-TIMEZONE:Europe/Madrid
DESCRIPTION:Arrel de la publicació del nou llibre "Piquem de mans" de RikKi Arjuna, cantant del grup de música infantil Xiula, i Ariadna Reyes, vindran a Ullastrell per compartir aquestes noves cançons per cantar i jugar plegats.

URI:https://www.ullastrell.cat/actualitat/agenda/picar-de-mans-amb-xiula.html
CLASS:PUBLIC
END:VEVENT
END:VCALENDAR
