BEGIN:VCALENDAR
VERSION:2.0
CALSCALE:GREGORIAN
PRODID:-//Diputació de Barcelona//DibaCMS//EN
BEGIN:VEVENT
UID:6070
DTSTAMP:20260419T230122
DTSTART:20240521T103000
DTEND:20240521T120000
SUMMARY:Taller d’Alimentació Saludable
LOCATION:C/ Serra 37 08231 Ullastrell
METHOD:PUBLISH
X-WR-CALNAME:ullastrell@ullastrell.cat
X-WR-TIMEZONE:Europe/Madrid
DESCRIPTION:A càrrec de Creu Roja

URI:https://www.ullastrell.cat/actualitat/agenda/taller-dalimentacio-saludable.html
CLASS:PUBLIC
END:VEVENT
END:VCALENDAR
