BEGIN:VCALENDAR
VERSION:2.0
CALSCALE:GREGORIAN
PRODID:-//Diputació de Barcelona//DibaCMS//EN
BEGIN:VEVENT
UID:6072
DTSTAMP:20260419T230811
DTSTART:20240528T183000
DTEND:20240528T193000
SUMMARY:Treballa aquest estiu
LOCATION:C/ Josep Fornell, s/n 08231 Ullastrell
METHOD:PUBLISH
X-WR-CALNAME:ullastrell@ullastrell.cat
X-WR-TIMEZONE:Europe/Madrid
DESCRIPTION:Si tens entre 16 i 29 anys i vols treballar a l'estiu, vine a aquesta xerrada. Uns quants consells sobre com afrontar la cerca de feina a l'estiu, l'elaboració del currículum i l'entrevista de feina t'ajudaran a acostar-te a la realitat d'aquest mercat laboral.

Dimarts 28 de maig a 18.30h a la Biblioteca Josep Massagué.
Inscripció prèvia: whatsapp al 671660513

URI:https://www.ullastrell.cat/actualitat/agenda/treballa-aquest-estiu.html
CLASS:PUBLIC
END:VEVENT
END:VCALENDAR
