BEGIN:VCALENDAR
VERSION:2.0
CALSCALE:GREGORIAN
PRODID:-//Diputació de Barcelona//DibaCMS//EN
BEGIN:VEVENT
UID:6078
DTSTAMP:20260419T212629
DTSTART:20240617T183000
DTEND:20240617T200000
SUMMARY:Xerrada: Mobilitat internacional per a joves
LOCATION:Plaça de les escoles, 1 08231 Ullastrell
METHOD:PUBLISH
X-WR-CALNAME:ullastrell@ullastrell.cat
X-WR-TIMEZONE:Europe/Madrid
DESCRIPTION:Xerrada informativa sobre oportunitats de mobilitat a l'estranger per a joves: estades d'estiu per a joves, voluntariat internacional de curta o llarga durada i molt més!

URI:https://www.ullastrell.cat/actualitat/agenda/xerrada-mobilitat-internacional-per-a-joves.html
CLASS:PUBLIC
END:VEVENT
END:VCALENDAR
