BEGIN:VCALENDAR
VERSION:2.0
CALSCALE:GREGORIAN
PRODID:-//Diputació de Barcelona//DibaCMS//EN
BEGIN:VEVENT
UID:6082
DTSTAMP:20260419T212537
DTSTART:20240618T103000
DTEND:20240618T113000
SUMMARY:OFICINA MÒBIL D'INFORMACIÓ AL CONSUMIDOR  
LOCATION:Davant de l'Ajuntament 
METHOD:PUBLISH
X-WR-CALNAME:ullastrell@ullastrell.cat
X-WR-TIMEZONE:Europe/Madrid
DESCRIPTION:El proper dimarts 18 de juny de 2024 OFICINA MÒBIL D'INFORMACIÓ AL CONSUMIDOR.

Organitza: Diputació de Barcelona - Ajuntament d'Ullastrell.

URI:https://www.ullastrell.cat/actualitat/agenda/6082-oficina-mobil-dinformacio-al-consumidor-.html
CLASS:PUBLIC
END:VEVENT
END:VCALENDAR
